BEGIN:VCALENDAR
VERSION:2.0
PRODID:-//Shipyards Brewery District Association - ECPv6.15.20//NONSGML v1.0//EN
CALSCALE:GREGORIAN
METHOD:PUBLISH
X-WR-CALNAME:Shipyards Brewery District Association
X-ORIGINAL-URL:http://shipyardsbrewerydistrict.com
X-WR-CALDESC:Events for Shipyards Brewery District Association
REFRESH-INTERVAL;VALUE=DURATION:PT1H
X-Robots-Tag:noindex
X-PUBLISHED-TTL:PT1H
BEGIN:VTIMEZONE
TZID:UTC
BEGIN:STANDARD
TZOFFSETFROM:+0000
TZOFFSETTO:+0000
TZNAME:UTC
DTSTART:20220101T000000
END:STANDARD
END:VTIMEZONE
BEGIN:VEVENT
DTSTART;TZID=UTC:20230418T170000
DTEND;TZID=UTC:20230418T220000
DTSTAMP:20260421T180538
CREATED:20230417T210021Z
LAST-MODIFIED:20230417T210437Z
UID:90-1681837200-1681855200@shipyardsbrewerydistrict.com
SUMMARY:Windfall Tiki Tuesday Pop-Up
DESCRIPTION:Tiki Tuesday Pop-Up Alert! 🔥\nJoin us this Tuesday\, April 18th\, for a tropically inspired pop-up at our tasting room! Tickets will be available at the door from 5 p.m. until 10 p.m. and will secure you a tiki-inspired snack\, a tiki-inspired cocktail by @counterculturecocktails 🍹\, cider\, and MORE! \nRumour has it there will also be a limbo contest… \nSee you there! 💃
URL:http://shipyardsbrewerydistrict.com/event/windfall-tiki-tuesday/
END:VEVENT
END:VCALENDAR